Package: flowMatch Version: 1.45.0 Command: rm -rf flowMatch.buildbin-libdir && mkdir flowMatch.buildbin-libdir && /Users/biocbuild/BBS/utils/build-universal.sh flowMatch_1.45.0.tar.gz /Library/Frameworks/R.framework/Resources/bin/R flowMatch.buildbin-libdir StartedAt: 2025-07-22 22:24:34 -0400 (Tue, 22 Jul 2025) EndedAt: 2025-07-22 22:24:45 -0400 (Tue, 22 Jul 2025) EllapsedTime: 10.2 seconds RetCode: 0 Status: OK PackageFile: flowMatch_1.45.0.tgz PackageFileSize: 3.99 MiB