Package: flowGraph Version: 1.17.0 Command: /home/biocbuild/R/R/bin/R CMD check --install=check:flowGraph.install-out.txt --library=/home/biocbuild/R/R/site-library --no-vignettes --timings flowGraph_1.17.0.tar.gz StartedAt: 2025-07-11 08:16:20 -0000 (Fri, 11 Jul 2025) EndedAt: 2025-07-11 08:21:00 -0000 (Fri, 11 Jul 2025) EllapsedTime: 280.2 seconds RetCode: 0 Status: OK CheckDir: flowGraph.Rcheck Warnings: 0