Package: flowGraph Version: 1.17.0 Command: /Library/Frameworks/R.framework/Resources/bin/R CMD INSTALL flowGraph StartedAt: 2025-07-04 15:10:10 -0400 (Fri, 04 Jul 2025) EndedAt: 2025-07-04 15:10:53 -0400 (Fri, 04 Jul 2025) EllapsedTime: 43.7 seconds RetCode: 0 Status: OK