Package: flowGraph Version: 1.17.0 Command: /Library/Frameworks/R.framework/Resources/bin/R CMD build --keep-empty-dirs --no-resave-data flowGraph StartedAt: 2025-07-03 16:56:30 -0400 (Thu, 03 Jul 2025) EndedAt: 2025-07-03 16:57:16 -0400 (Thu, 03 Jul 2025) EllapsedTime: 45.7 seconds RetCode: 0 Status: OK PackageFile: flowGraph_1.17.0.tar.gz PackageFileSize: 2.075 MiB