Package: flowGraph Version: 1.17.0 Command: /Library/Frameworks/R.framework/Resources/bin/R CMD INSTALL flowGraph StartedAt: 2025-07-14 15:04:53 -0400 (Mon, 14 Jul 2025) EndedAt: 2025-07-14 15:05:07 -0400 (Mon, 14 Jul 2025) EllapsedTime: 13.9 seconds RetCode: 0 Status: OK