Package: flowGraph Version: 1.17.0 Command: /Library/Frameworks/R.framework/Resources/bin/R CMD build --keep-empty-dirs --no-resave-data flowGraph StartedAt: 2025-07-14 16:19:47 -0400 (Mon, 14 Jul 2025) EndedAt: 2025-07-14 16:20:05 -0400 (Mon, 14 Jul 2025) EllapsedTime: 17.2 seconds RetCode: 0 Status: OK PackageFile: flowGraph_1.17.0.tar.gz PackageFileSize: 2.075 MiB