Package: flowFP Version: 1.67.0 Command: /Library/Frameworks/R.framework/Resources/bin/R CMD INSTALL flowFP StartedAt: 2025-10-05 15:07:39 -0400 (Sun, 05 Oct 2025) EndedAt: 2025-10-05 15:07:46 -0400 (Sun, 05 Oct 2025) EllapsedTime: 7.7 seconds RetCode: 0 Status: OK