Package: flowFP Version: 1.67.0 Command: rm -rf flowFP.buildbin-libdir && mkdir flowFP.buildbin-libdir && /Users/biocbuild/BBS/utils/build-universal.sh flowFP_1.67.0.tar.gz /Library/Frameworks/R.framework/Resources/bin/R flowFP.buildbin-libdir StartedAt: 2025-10-05 22:43:14 -0400 (Sun, 05 Oct 2025) EndedAt: 2025-10-05 22:43:21 -0400 (Sun, 05 Oct 2025) EllapsedTime: 7.2 seconds RetCode: 0 Status: OK PackageFile: flowFP_1.67.0.tgz PackageFileSize: 5.535 MiB