Package: flowCyBar Version: 1.45.0 Command: /home/biocbuild/R/R/bin/R CMD INSTALL flowCyBar StartedAt: 2025-07-14 20:16:07 -0000 (Mon, 14 Jul 2025) EndedAt: 2025-07-14 20:17:10 -0000 (Mon, 14 Jul 2025) EllapsedTime: 62.4 seconds RetCode: 0 Status: OK