Package: flowCyBar Version: 1.45.0 Command: /home/biocbuild/R/R/bin/R CMD build --keep-empty-dirs --no-resave-data flowCyBar StartedAt: 2025-07-14 23:38:07 -0000 (Mon, 14 Jul 2025) EndedAt: 2025-07-14 23:38:36 -0000 (Mon, 14 Jul 2025) EllapsedTime: 29.0 seconds RetCode: 0 Status: OK PackageFile: flowCyBar_1.45.0.tar.gz PackageFileSize: 499.3 KiB