Package: flowCyBar Version: 1.45.0 Command: F:\biocbuild\bbs-3.22-bioc\R\bin\R.exe CMD INSTALL flowCyBar StartedAt: 2025-07-20 15:28:23 -0400 (Sun, 20 Jul 2025) EndedAt: 2025-07-20 15:28:40 -0400 (Sun, 20 Jul 2025) EllapsedTime: 17.3 seconds RetCode: 0 Status: OK