Package: flowCyBar Version: 1.45.0 Command: F:\biocbuild\bbs-3.22-bioc\R\bin\R.exe CMD check --no-multiarch --install=check:flowCyBar.install-out.txt --library=F:\biocbuild\bbs-3.22-bioc\R\library --no-vignettes --timings flowCyBar_1.45.0.tar.gz StartedAt: 2025-07-21 02:08:49 -0400 (Mon, 21 Jul 2025) EndedAt: 2025-07-21 02:09:49 -0400 (Mon, 21 Jul 2025) EllapsedTime: 60.3 seconds RetCode: 0 Status: OK CheckDir: flowCyBar.Rcheck Warnings: 0