Package: flowCyBar Version: 1.45.0 Command: chmod a+r flowCyBar -R && F:\biocbuild\bbs-3.22-bioc\R\bin\R.exe CMD build --keep-empty-dirs --no-resave-data flowCyBar StartedAt: 2025-07-20 19:04:37 -0400 (Sun, 20 Jul 2025) EndedAt: 2025-07-20 19:05:00 -0400 (Sun, 20 Jul 2025) EllapsedTime: 23.0 seconds RetCode: 0 Status: OK PackageFile: flowCyBar_1.45.0.tar.gz PackageFileSize: 317.6 KiB