Package: flowCyBar Version: 1.45.0 Command: /home/biocbuild/bbs-3.22-bioc/R/bin/R CMD check --install=check:flowCyBar.install-out.txt --library=/home/biocbuild/bbs-3.22-bioc/R/site-library --timings flowCyBar_1.45.0.tar.gz StartedAt: 2025-10-05 23:58:23 -0400 (Sun, 05 Oct 2025) EndedAt: 2025-10-05 23:59:15 -0400 (Sun, 05 Oct 2025) EllapsedTime: 52.1 seconds RetCode: 0 Status: OK CheckDir: flowCyBar.Rcheck Warnings: 0