Package: flowCyBar Version: 1.45.0 Command: /home/biocbuild/bbs-3.22-bioc/R/bin/R CMD build --keep-empty-dirs --no-resave-data --md5 flowCyBar StartedAt: 2025-10-05 17:41:33 -0400 (Sun, 05 Oct 2025) EndedAt: 2025-10-05 17:41:50 -0400 (Sun, 05 Oct 2025) EllapsedTime: 17.0 seconds RetCode: 0 Status: OK PackageFile: flowCyBar_1.45.0.tar.gz PackageFileSize: 508.7 KiB