Package: flowCyBar Version: 1.45.0 Command: /Library/Frameworks/R.framework/Resources/bin/R CMD build --keep-empty-dirs --no-resave-data flowCyBar StartedAt: 2025-07-01 17:00:51 -0400 (Tue, 01 Jul 2025) EndedAt: 2025-07-01 17:01:14 -0400 (Tue, 01 Jul 2025) EllapsedTime: 22.9 seconds RetCode: 0 Status: OK PackageFile: flowCyBar_1.45.0.tar.gz PackageFileSize: 507.3 KiB