Package: flowCyBar Version: 1.45.0 Command: rm -rf flowCyBar.buildbin-libdir && mkdir flowCyBar.buildbin-libdir && /Users/biocbuild/BBS/utils/build-universal.sh flowCyBar_1.45.0.tar.gz /Library/Frameworks/R.framework/Resources/bin/R flowCyBar.buildbin-libdir StartedAt: 2025-07-02 00:57:31 -0400 (Wed, 02 Jul 2025) EndedAt: 2025-07-02 00:57:40 -0400 (Wed, 02 Jul 2025) EllapsedTime: 9.2 seconds RetCode: 0 Status: OK PackageFile: flowCyBar_1.45.0.tgz PackageFileSize: 532.7 KiB