Package: flowCut Version: 1.19.0 Command: chmod a+r flowCut -R && F:\biocbuild\bbs-3.22-bioc\R\bin\R.exe CMD build --keep-empty-dirs --no-resave-data flowCut StartedAt: 2025-07-24 19:15:53 -0400 (Thu, 24 Jul 2025) EndedAt: 2025-07-24 19:22:13 -0400 (Thu, 24 Jul 2025) EllapsedTime: 380.3 seconds RetCode: 0 Status: OK PackageFile: flowCut_1.19.0.tar.gz PackageFileSize: 6.732 MiB