Package: flowCut Version: 1.19.0 Command: rm -rf flowCut.buildbin-libdir && mkdir flowCut.buildbin-libdir && F:\biocbuild\bbs-3.22-bioc\R\bin\R.exe CMD INSTALL --build --library=flowCut.buildbin-libdir flowCut_1.19.0.tar.gz StartedAt: 2025-07-25 09:16:00 -0400 (Fri, 25 Jul 2025) EndedAt: 2025-07-25 09:16:13 -0400 (Fri, 25 Jul 2025) EllapsedTime: 13.1 seconds RetCode: 0 Status: OK PackageFile: flowCut_1.19.0.zip PackageFileSize: 6.406 MiB