Package: flowCore Version: 2.21.0 Command: /home/biocbuild/bbs-3.22-bioc/R/bin/R CMD INSTALL flowCore StartedAt: 2025-10-05 15:12:23 -0400 (Sun, 05 Oct 2025) EndedAt: 2025-10-05 15:13:05 -0400 (Sun, 05 Oct 2025) EllapsedTime: 41.8 seconds RetCode: 0 Status: OK