Package: flowClust Version: 3.47.0 Command: /home/biocbuild/R/R/bin/R CMD INSTALL flowClust StartedAt: 2025-07-17 20:24:21 -0000 (Thu, 17 Jul 2025) EndedAt: 2025-07-17 20:26:34 -0000 (Thu, 17 Jul 2025) EllapsedTime: 133.0 seconds RetCode: 0 Status: OK