Package: flowClust Version: 3.47.0 Command: /home/biocbuild/R/R/bin/R CMD build --keep-empty-dirs --no-resave-data flowClust StartedAt: 2025-07-17 23:49:00 -0000 (Thu, 17 Jul 2025) EndedAt: 2025-07-17 23:51:29 -0000 (Thu, 17 Jul 2025) EllapsedTime: 149.1 seconds RetCode: 0 Status: OK PackageFile: flowClust_3.47.0.tar.gz PackageFileSize: 1.618 MiB