Package: flowClust Version: 3.47.0 Command: F:\biocbuild\bbs-3.22-bioc\R\bin\R.exe CMD check --no-multiarch --install=check:flowClust.install-out.txt --library=F:\biocbuild\bbs-3.22-bioc\R\library --no-vignettes --timings flowClust_3.47.0.tar.gz StartedAt: 2025-07-21 02:08:34 -0400 (Mon, 21 Jul 2025) EndedAt: 2025-07-21 02:15:14 -0400 (Mon, 21 Jul 2025) EllapsedTime: 399.7 seconds RetCode: 0 Status: WARNINGS CheckDir: flowClust.Rcheck Warnings: 1