Package: flowClust Version: 3.47.0 Command: chmod a+r flowClust -R && F:\biocbuild\bbs-3.22-bioc\R\bin\R.exe CMD build --keep-empty-dirs --no-resave-data flowClust StartedAt: 2025-07-20 19:03:57 -0400 (Sun, 20 Jul 2025) EndedAt: 2025-07-20 19:05:31 -0400 (Sun, 20 Jul 2025) EllapsedTime: 93.9 seconds RetCode: 0 Status: OK PackageFile: flowClust_3.47.0.tar.gz PackageFileSize: 1.592 MiB