Package: flowClust Version: 3.47.0 Command: rm -rf flowClust.buildbin-libdir && mkdir flowClust.buildbin-libdir && F:\biocbuild\bbs-3.22-bioc\R\bin\R.exe CMD INSTALL --build --library=flowClust.buildbin-libdir flowClust_3.47.0.tar.gz StartedAt: 2025-07-21 09:03:12 -0400 (Mon, 21 Jul 2025) EndedAt: 2025-07-21 09:04:02 -0400 (Mon, 21 Jul 2025) EllapsedTime: 50.2 seconds RetCode: 0 Status: OK PackageFile: flowClust_3.47.0.zip PackageFileSize: 887.5 KiB