Package: flowClust Version: 3.47.0 Command: /home/biocbuild/bbs-3.22-bioc/R/bin/R CMD INSTALL flowClust StartedAt: 2025-06-30 15:13:46 -0400 (Mon, 30 Jun 2025) EndedAt: 2025-06-30 15:15:22 -0400 (Mon, 30 Jun 2025) EllapsedTime: 95.5 seconds RetCode: 0 Status: OK