Package: flowClust Version: 3.47.0 Command: /home/biocbuild/bbs-3.22-bioc/R/bin/R CMD check --install=check:flowClust.install-out.txt --library=/home/biocbuild/bbs-3.22-bioc/R/site-library --timings flowClust_3.47.0.tar.gz StartedAt: 2025-06-29 22:16:58 -0400 (Sun, 29 Jun 2025) EndedAt: 2025-06-29 22:19:53 -0400 (Sun, 29 Jun 2025) EllapsedTime: 175.3 seconds RetCode: 0 Status: WARNINGS CheckDir: flowClust.Rcheck Warnings: 1