Package: flowClust Version: 3.47.0 Command: /home/biocbuild/bbs-3.22-bioc/R/bin/R CMD build --keep-empty-dirs --no-resave-data --md5 flowClust StartedAt: 2025-06-29 17:16:08 -0400 (Sun, 29 Jun 2025) EndedAt: 2025-06-29 17:17:55 -0400 (Sun, 29 Jun 2025) EllapsedTime: 107.2 seconds RetCode: 0 Status: OK PackageFile: flowClust_3.47.0.tar.gz PackageFileSize: 1.728 MiB