Package: flowClust Version: 3.47.0 Command: /Library/Frameworks/R.framework/Resources/bin/R CMD check --install=check:flowClust.install-out.txt --library=/Library/Frameworks/R.framework/Resources/library --no-vignettes --timings flowClust_3.47.0.tar.gz StartedAt: 2025-07-21 20:45:22 -0400 (Mon, 21 Jul 2025) EndedAt: 2025-07-21 20:45:29 -0400 (Mon, 21 Jul 2025) EllapsedTime: 7.0 seconds RetCode: 1 Status: ERROR CheckDir: flowClust.Rcheck Warnings: NA