Package: flowClust Version: 3.47.0 Command: /Library/Frameworks/R.framework/Resources/bin/R CMD build --keep-empty-dirs --no-resave-data flowClust StartedAt: 2025-07-21 16:48:33 -0400 (Mon, 21 Jul 2025) EndedAt: 2025-07-21 16:51:56 -0400 (Mon, 21 Jul 2025) EllapsedTime: 203.4 seconds RetCode: 0 Status: OK PackageFile: flowClust_3.47.0.tar.gz PackageFileSize: 1.765 MiB