Package: flowClust Version: 3.47.0 Command: /Library/Frameworks/R.framework/Resources/bin/R CMD check --install=check:flowClust.install-out.txt --library=/Library/Frameworks/R.framework/Resources/library --no-vignettes --timings flowClust_3.47.0.tar.gz StartedAt: 2025-07-20 19:21:19 -0400 (Sun, 20 Jul 2025) EndedAt: 2025-07-20 19:21:23 -0400 (Sun, 20 Jul 2025) EllapsedTime: 4.0 seconds RetCode: 1 Status: ERROR CheckDir: flowClust.Rcheck Warnings: NA