Package: flowClean Version: 1.47.0 Command: /home/biocbuild/R/R/bin/R CMD INSTALL flowClean StartedAt: 2025-10-02 20:33:51 -0000 (Thu, 02 Oct 2025) EndedAt: 2025-10-02 20:34:00 -0000 (Thu, 02 Oct 2025) EllapsedTime: 9.0 seconds RetCode: 0 Status: OK