Package: flowClean Version: 1.47.0 Command: /Library/Frameworks/R.framework/Resources/bin/R CMD INSTALL flowClean StartedAt: 2025-10-05 15:16:04 -0400 (Sun, 05 Oct 2025) EndedAt: 2025-10-05 15:16:19 -0400 (Sun, 05 Oct 2025) EllapsedTime: 15.0 seconds RetCode: 0 Status: OK