Package: flowClean Version: 1.47.0 Command: /Library/Frameworks/R.framework/Resources/bin/R CMD check --install=check:flowClean.install-out.txt --library=/Library/Frameworks/R.framework/Resources/library --no-vignettes --timings flowClean_1.47.0.tar.gz StartedAt: 2025-10-05 21:32:49 -0400 (Sun, 05 Oct 2025) EndedAt: 2025-10-05 21:34:23 -0400 (Sun, 05 Oct 2025) EllapsedTime: 93.7 seconds RetCode: 0 Status: WARNINGS CheckDir: flowClean.Rcheck Warnings: 3