Package: flowCHIC Version: 1.43.0 Command: /home/biocbuild/R/R/bin/R CMD INSTALL flowCHIC StartedAt: 2025-07-14 20:26:21 -0000 (Mon, 14 Jul 2025) EndedAt: 2025-07-14 20:26:38 -0000 (Mon, 14 Jul 2025) EllapsedTime: 17.2 seconds RetCode: 0 Status: OK