Package: flowCHIC Version: 1.43.0 Command: /home/biocbuild/R/R/bin/R CMD check --install=check:flowCHIC.install-out.txt --library=/home/biocbuild/R/R/site-library --no-vignettes --timings flowCHIC_1.43.0.tar.gz StartedAt: 2025-07-15 07:29:51 -0000 (Tue, 15 Jul 2025) EndedAt: 2025-07-15 07:31:56 -0000 (Tue, 15 Jul 2025) EllapsedTime: 125.1 seconds RetCode: 0 Status: OK CheckDir: flowCHIC.Rcheck Warnings: 0