Package: flowCHIC Version: 1.43.0 Command: /Library/Frameworks/R.framework/Resources/bin/R CMD check --install=check:flowCHIC.install-out.txt --library=/Library/Frameworks/R.framework/Resources/library --no-vignettes --timings flowCHIC_1.43.0.tar.gz StartedAt: 2025-10-05 19:34:28 -0400 (Sun, 05 Oct 2025) EndedAt: 2025-10-05 19:35:13 -0400 (Sun, 05 Oct 2025) EllapsedTime: 44.6 seconds RetCode: 0 Status: OK CheckDir: flowCHIC.Rcheck Warnings: 0