Package: flowBin Version: 1.45.0 Command: /home/biocbuild/R/R/bin/R CMD check --install=check:flowBin.install-out.txt --library=/home/biocbuild/R/R/site-library --no-vignettes --timings flowBin_1.45.0.tar.gz StartedAt: 2025-07-18 06:49:41 -0000 (Fri, 18 Jul 2025) EndedAt: 2025-07-18 06:51:12 -0000 (Fri, 18 Jul 2025) EllapsedTime: 91.2 seconds RetCode: 0 Status: OK CheckDir: flowBin.Rcheck Warnings: 0