Package: flowBin Version: 1.45.0 Command: rm -rf flowBin.buildbin-libdir && mkdir flowBin.buildbin-libdir && F:\biocbuild\bbs-3.22-bioc\R\bin\R.exe CMD INSTALL --build --library=flowBin.buildbin-libdir flowBin_1.45.0.tar.gz StartedAt: 2025-07-25 09:15:44 -0400 (Fri, 25 Jul 2025) EndedAt: 2025-07-25 09:16:28 -0400 (Fri, 25 Jul 2025) EllapsedTime: 44.0 seconds RetCode: 0 Status: OK PackageFile: flowBin_1.45.0.zip PackageFileSize: 753 KiB