Package: flowBin Version: 1.45.0 Command: /Library/Frameworks/R.framework/Resources/bin/R CMD INSTALL flowBin StartedAt: 2025-07-13 15:18:47 -0400 (Sun, 13 Jul 2025) EndedAt: 2025-07-13 15:19:04 -0400 (Sun, 13 Jul 2025) EllapsedTime: 16.6 seconds RetCode: 0 Status: OK