Package: flowBin Version: 1.45.0 Command: /Library/Frameworks/R.framework/Resources/bin/R CMD build --keep-empty-dirs --no-resave-data flowBin StartedAt: 2025-07-15 17:04:52 -0400 (Tue, 15 Jul 2025) EndedAt: 2025-07-15 17:05:23 -0400 (Tue, 15 Jul 2025) EllapsedTime: 30.9 seconds RetCode: 0 Status: OK PackageFile: flowBin_1.45.0.tar.gz PackageFileSize: 574.7 KiB