Package: flowBin Version: 1.45.0 Command: rm -rf flowBin.buildbin-libdir && mkdir flowBin.buildbin-libdir && /Users/biocbuild/BBS/utils/build-universal.sh flowBin_1.45.0.tar.gz /Library/Frameworks/R.framework/Resources/bin/R flowBin.buildbin-libdir StartedAt: 2025-07-13 22:17:06 -0400 (Sun, 13 Jul 2025) EndedAt: 2025-07-13 22:17:11 -0400 (Sun, 13 Jul 2025) EllapsedTime: 5.2 seconds RetCode: 0 Status: OK PackageFile: flowBin_1.45.0.tgz PackageFileSize: 841.6 KiB