Package: flowBeads Version: 1.47.0 Command: /home/biocbuild/R/R/bin/R CMD INSTALL flowBeads StartedAt: 2025-07-21 20:36:23 -0000 (Mon, 21 Jul 2025) EndedAt: 2025-07-21 20:36:35 -0000 (Mon, 21 Jul 2025) EllapsedTime: 11.7 seconds RetCode: 0 Status: OK