Package: flowBeads Version: 1.47.0 Command: /home/biocbuild/R/R/bin/R CMD check --install=check:flowBeads.install-out.txt --library=/home/biocbuild/R/R/site-library --no-vignettes --timings flowBeads_1.47.0.tar.gz StartedAt: 2025-07-22 07:15:14 -0000 (Tue, 22 Jul 2025) EndedAt: 2025-07-22 07:16:22 -0000 (Tue, 22 Jul 2025) EllapsedTime: 68.0 seconds RetCode: 0 Status: WARNINGS CheckDir: flowBeads.Rcheck Warnings: 2