Package: flowBeads Version: 1.47.0 Command: /home/biocbuild/R/R/bin/R CMD build --keep-empty-dirs --no-resave-data flowBeads StartedAt: 2025-07-21 23:45:36 -0000 (Mon, 21 Jul 2025) EndedAt: 2025-07-21 23:45:55 -0000 (Mon, 21 Jul 2025) EllapsedTime: 19.0 seconds RetCode: 0 Status: OK PackageFile: flowBeads_1.47.0.tar.gz PackageFileSize: 964.5 KiB