Package: flowBeads Version: 1.47.0 Command: F:\biocbuild\bbs-3.22-bioc\R\bin\R.exe CMD INSTALL flowBeads StartedAt: 2025-07-21 16:00:07 -0400 (Mon, 21 Jul 2025) EndedAt: 2025-07-21 16:00:42 -0400 (Mon, 21 Jul 2025) EllapsedTime: 34.6 seconds RetCode: 0 Status: OK