Package: flowBeads Version: 1.47.0 Command: F:\biocbuild\bbs-3.22-bioc\R\bin\R.exe CMD check --no-multiarch --install=check:flowBeads.install-out.txt --library=F:\biocbuild\bbs-3.22-bioc\R\library --no-vignettes --timings flowBeads_1.47.0.tar.gz StartedAt: 2025-07-22 02:10:01 -0400 (Tue, 22 Jul 2025) EndedAt: 2025-07-22 02:11:20 -0400 (Tue, 22 Jul 2025) EllapsedTime: 78.8 seconds RetCode: 0 Status: WARNINGS CheckDir: flowBeads.Rcheck Warnings: 2