Package: flowBeads Version: 1.47.0 Command: chmod a+r flowBeads -R && F:\biocbuild\bbs-3.22-bioc\R\bin\R.exe CMD build --keep-empty-dirs --no-resave-data flowBeads StartedAt: 2025-07-21 19:08:00 -0400 (Mon, 21 Jul 2025) EndedAt: 2025-07-21 19:08:25 -0400 (Mon, 21 Jul 2025) EllapsedTime: 25.1 seconds RetCode: 0 Status: OK PackageFile: flowBeads_1.47.0.tar.gz PackageFileSize: 833.2 KiB