Package: flowBeads Version: 1.47.0 Command: rm -rf flowBeads.buildbin-libdir && mkdir flowBeads.buildbin-libdir && F:\biocbuild\bbs-3.22-bioc\R\bin\R.exe CMD INSTALL --build --library=flowBeads.buildbin-libdir flowBeads_1.47.0.tar.gz StartedAt: 2025-07-22 09:07:06 -0400 (Tue, 22 Jul 2025) EndedAt: 2025-07-22 09:07:44 -0400 (Tue, 22 Jul 2025) EllapsedTime: 38.5 seconds RetCode: 0 Status: OK PackageFile: flowBeads_1.47.0.zip PackageFileSize: 1.088 MiB