Package: flowBeads Version: 1.47.0 Command: /Library/Frameworks/R.framework/Resources/bin/R CMD build --keep-empty-dirs --no-resave-data flowBeads StartedAt: 2025-07-21 16:19:12 -0400 (Mon, 21 Jul 2025) EndedAt: 2025-07-21 16:19:20 -0400 (Mon, 21 Jul 2025) EllapsedTime: 8.1 seconds RetCode: 0 Status: OK PackageFile: flowBeads_1.47.0.tar.gz PackageFileSize: 977.4 KiB